BEGIN:VCALENDAR
VERSION:2.0
PRODID:-//FTACV | Federación de Tiro con Arco Comunidad Valenciana - ECPv6.15.20//NONSGML v1.0//EN
CALSCALE:GREGORIAN
METHOD:PUBLISH
X-ORIGINAL-URL:https://www.ftacv.org
X-WR-CALDESC:Eventos para FTACV | Federación de Tiro con Arco Comunidad Valenciana
REFRESH-INTERVAL;VALUE=DURATION:PT1H
X-Robots-Tag:noindex
X-PUBLISHED-TTL:PT1H
BEGIN:VTIMEZONE
TZID:Europe/Paris
BEGIN:DAYLIGHT
TZOFFSETFROM:+0100
TZOFFSETTO:+0200
TZNAME:CEST
DTSTART:20250330T010000
END:DAYLIGHT
BEGIN:STANDARD
TZOFFSETFROM:+0200
TZOFFSETTO:+0100
TZNAME:CET
DTSTART:20251026T010000
END:STANDARD
BEGIN:DAYLIGHT
TZOFFSETFROM:+0100
TZOFFSETTO:+0200
TZNAME:CEST
DTSTART:20260329T010000
END:DAYLIGHT
BEGIN:STANDARD
TZOFFSETFROM:+0200
TZOFFSETTO:+0100
TZNAME:CET
DTSTART:20261025T010000
END:STANDARD
BEGIN:DAYLIGHT
TZOFFSETFROM:+0100
TZOFFSETTO:+0200
TZNAME:CEST
DTSTART:20270328T010000
END:DAYLIGHT
BEGIN:STANDARD
TZOFFSETFROM:+0200
TZOFFSETTO:+0100
TZNAME:CET
DTSTART:20271031T010000
END:STANDARD
END:VTIMEZONE
BEGIN:VEVENT
DTSTART;VALUE=DATE:20260315
DTEND;VALUE=DATE:20260316
DTSTAMP:20260422T155359
CREATED:20260226T181856Z
LAST-MODIFIED:20260315T193557Z
UID:12197-1773532800-1773619199@www.ftacv.org
SUMMARY:6ª TIRADA DE LA LIGA VALENCIANA DE RECORRIDO DE BOSQUE 3D 2025-2026
DESCRIPTION:CONVOCATORIA \nINSCRIPCIÓN \nCLASIFICACIÓN
URL:https://www.ftacv.org/evento/6a-tirada-de-la-liga-valenciana-de-recorrido-de-bosque-3d-2025-2026/
LOCATION:PARAJE DE LES ESCALES\, ALFARA DE LA BORONIA\, SAGUNTO\, VALENCIA\, 46594\, Spain
CATEGORIES:Bosque 3D,Competiciones
ATTACH;FMTTYPE=image/jpeg:https://www.ftacv.org/wp-content/uploads/2026/02/CARTEL.jpeg
ORGANIZER;CN="ARQUERS DE MORVEDRE":MAILTO:ARQUEROSDEMORVEDRE@GMAIL.COM
END:VEVENT
END:VCALENDAR