BEGIN:VCALENDAR
VERSION:2.0
PRODID:-//FTACV | Federación de Tiro con Arco Comunidad Valenciana - ECPv6.15.20//NONSGML v1.0//EN
CALSCALE:GREGORIAN
METHOD:PUBLISH
X-WR-CALNAME:FTACV | Federación de Tiro con Arco Comunidad Valenciana
X-ORIGINAL-URL:https://www.ftacv.org
X-WR-CALDESC:Eventos para FTACV | Federación de Tiro con Arco Comunidad Valenciana
REFRESH-INTERVAL;VALUE=DURATION:PT1H
X-Robots-Tag:noindex
X-PUBLISHED-TTL:PT1H
BEGIN:VTIMEZONE
TZID:Europe/Paris
BEGIN:DAYLIGHT
TZOFFSETFROM:+0100
TZOFFSETTO:+0200
TZNAME:CEST
DTSTART:20250330T010000
END:DAYLIGHT
BEGIN:STANDARD
TZOFFSETFROM:+0200
TZOFFSETTO:+0100
TZNAME:CET
DTSTART:20251026T010000
END:STANDARD
BEGIN:DAYLIGHT
TZOFFSETFROM:+0100
TZOFFSETTO:+0200
TZNAME:CEST
DTSTART:20260329T010000
END:DAYLIGHT
BEGIN:STANDARD
TZOFFSETFROM:+0200
TZOFFSETTO:+0100
TZNAME:CET
DTSTART:20261025T010000
END:STANDARD
BEGIN:DAYLIGHT
TZOFFSETFROM:+0100
TZOFFSETTO:+0200
TZNAME:CEST
DTSTART:20270328T010000
END:DAYLIGHT
BEGIN:STANDARD
TZOFFSETFROM:+0200
TZOFFSETTO:+0100
TZNAME:CET
DTSTART:20271031T010000
END:STANDARD
END:VTIMEZONE
BEGIN:VEVENT
DTSTART;VALUE=DATE:20260425
DTEND;VALUE=DATE:20260426
DTSTAMP:20260422T112516
CREATED:20260416T150909Z
LAST-MODIFIED:20260416T150909Z
UID:12503-1777075200-1777161599@www.ftacv.org
SUMMARY:V TECNIFICACIÓN DEL PTDCV RECURVO Y COMPUESTO 2025/2026
DESCRIPTION:CONVOCATORIA \nINSCRIPCIÓN
URL:https://www.ftacv.org/evento/v-tecnificacion-del-ptdcv-recurvo-y-compuesto-2025-2026/
LOCATION:PISTA CUBIERTA POLIDEPORTIVO ALMUSSAFES\, Carrer Ausiàs March\, 43\,\, ALUMSSAFES\, VALENCIA\, 46440\, Spain
CATEGORIES:Tecnificación
ATTACH;FMTTYPE=image/jpeg:https://www.ftacv.org/wp-content/uploads/2026/01/FEDE-.jpeg
ORGANIZER;CN="CLUB DE TIR AMB ARC ALMUSSAFES":MAILTO:arcalmussafes@hotmail.com
END:VEVENT
BEGIN:VEVENT
DTSTART;VALUE=DATE:20260503
DTEND;VALUE=DATE:20260504
DTSTAMP:20260422T112516
CREATED:20260325T063652Z
LAST-MODIFIED:20260325T063652Z
UID:12397-1777766400-1777852799@www.ftacv.org
SUMMARY:CAMPEONATO AUTONÓMICO INDIVIDUAL Y POR EQUIPS DE 3D
DESCRIPTION:CONVOCATORIA \nINSCRIPCIÓN
URL:https://www.ftacv.org/evento/campeonato-autonomico-individual-y-por-equips-de-3d/
LOCATION:PENYA ROJA\, Partida Penyeta Roja s/n.\, CASTELLÓ\, CASTELLÓ\, 12004\, Spain
CATEGORIES:Bosque 3D,Competiciones
ATTACH;FMTTYPE=image/jpeg:https://www.ftacv.org/wp-content/uploads/2026/03/Cartel_Autonomico-3D-2025-26-1-0001.jpg
ORGANIZER;CN="CLUB DE TIR AMB ARC CASTELL%C3%93":MAILTO:tirambarccastello@gmail.com
END:VEVENT
BEGIN:VEVENT
DTSTART;VALUE=DATE:20260509
DTEND;VALUE=DATE:20260510
DTSTAMP:20260422T112516
CREATED:20260406T084602Z
LAST-MODIFIED:20260406T084602Z
UID:12420-1778284800-1778371199@www.ftacv.org
SUMMARY:TROFEU CIUTAT DE VALÈNCIA- Puntuable para la liga Valenciana de Aire Libre
DESCRIPTION:CONVOCATORIA \nINSCRIPCIÓN
URL:https://www.ftacv.org/evento/trofeu-ciutat-de-valencia-puntuable-para-la-liga-valenciana-de-aire-libre/
LOCATION:PABELLÓN MUNICIPAL DE NAZARET\, CARRER FERNANDO MORAIS DE LA HORRA S/N\, VALENCIA\, VALENCIA\, 46024\, Spain
CATEGORIES:Aire Libre,Competiciones
ATTACH;FMTTYPE=image/jpeg:https://www.ftacv.org/wp-content/uploads/2026/04/CARTEL-XIII-TROFEU-CIUTAT-DE-VALENCIA.jpg
ORGANIZER;CN="CLUB ARC VALENCIA":MAILTO:presidente@arcvalencia.com
END:VEVENT
END:VCALENDAR