BEGIN:VCALENDAR
VERSION:2.0
PRODID:-//FTACV | Federación de Tiro con Arco Comunidad Valenciana - ECPv6.15.20//NONSGML v1.0//EN
CALSCALE:GREGORIAN
METHOD:PUBLISH
X-WR-CALNAME:FTACV | Federación de Tiro con Arco Comunidad Valenciana
X-ORIGINAL-URL:https://www.ftacv.org
X-WR-CALDESC:Eventos para FTACV | Federación de Tiro con Arco Comunidad Valenciana
REFRESH-INTERVAL;VALUE=DURATION:PT1H
X-Robots-Tag:noindex
X-PUBLISHED-TTL:PT1H
BEGIN:VTIMEZONE
TZID:Europe/Paris
BEGIN:DAYLIGHT
TZOFFSETFROM:+0100
TZOFFSETTO:+0200
TZNAME:CEST
DTSTART:20250330T010000
END:DAYLIGHT
BEGIN:STANDARD
TZOFFSETFROM:+0200
TZOFFSETTO:+0100
TZNAME:CET
DTSTART:20251026T010000
END:STANDARD
BEGIN:DAYLIGHT
TZOFFSETFROM:+0100
TZOFFSETTO:+0200
TZNAME:CEST
DTSTART:20260329T010000
END:DAYLIGHT
BEGIN:STANDARD
TZOFFSETFROM:+0200
TZOFFSETTO:+0100
TZNAME:CET
DTSTART:20261025T010000
END:STANDARD
BEGIN:DAYLIGHT
TZOFFSETFROM:+0100
TZOFFSETTO:+0200
TZNAME:CEST
DTSTART:20270328T010000
END:DAYLIGHT
BEGIN:STANDARD
TZOFFSETFROM:+0200
TZOFFSETTO:+0100
TZNAME:CET
DTSTART:20271031T010000
END:STANDARD
END:VTIMEZONE
BEGIN:VEVENT
DTSTART;VALUE=DATE:20260215
DTEND;VALUE=DATE:20260216
DTSTAMP:20260422T214240
CREATED:20251229T072646Z
LAST-MODIFIED:20260323T063917Z
UID:11972-1771113600-1771199999@www.ftacv.org
SUMMARY:XX TROFEO CIUDAD DE VILLENA MODALIDAD SALA
DESCRIPTION:CONVOCATORIA \nINSCRIPCIÓN \nSORTEO DE DIANAS
URL:https://www.ftacv.org/evento/xx-trofeo-ciudad-de-villena-modalidad-sala/
LOCATION:POLIDEPORTIVO MUNICIPAL VILLENA\, Ctra. Biar\, 1\, 03400 Villena\, 03400\, Villena\, Alicante/Alacant\, VILLENA\, ALICANTE\, 03400\, Spain
CATEGORIES:Competiciones,Sala
ATTACH;FMTTYPE=image/jpeg:https://www.ftacv.org/wp-content/uploads/2025/12/CARTEL-TROFEO-2026-0002APLAZADO2.jpg
END:VEVENT
END:VCALENDAR